BEGIN:VCALENDAR
VERSION:2.0
PRODID:SchoolNow
CALSCALE:GREGORIAN
BEGIN:VEVENT
UID:a3bc9758-67f6-11f0-b0b6-0affc1143c3b
DTSTAMP:20260419T082107Z
SUMMARY:No School - Professional Learning
LOCATION:All Schools
URL;VALUE=URI:https://www.westcler.org/calendar/8440934/no-school-professio
 nal-learning
DTSTART;VALUE=DATE:20260213
DTEND;VALUE=DATE:20260214
END:VEVENT
END:VCALENDAR
