BEGIN:VCALENDAR
VERSION:2.0
PRODID:SchoolNow
CALSCALE:GREGORIAN
BEGIN:VEVENT
UID:a3bc9cd0-67f6-11f0-aa40-0affc1143c3b
DTSTAMP:20260419T082107Z
SUMMARY:Holiday - Memorial Day
LOCATION:All Schools
URL;VALUE=URI:https://www.westcler.org/calendar/8440940/holiday-memorial-da
 y
DTSTART;VALUE=DATE:20260525
DTEND;VALUE=DATE:20260526
END:VEVENT
END:VCALENDAR
