BEGIN:VCALENDAR
VERSION:2.0
PRODID:SchoolNow
CALSCALE:GREGORIAN
BEGIN:VEVENT
UID:a3bc9db6-67f6-11f0-83c2-0affc1143c3b
DTSTAMP:20260419T142604Z
SUMMARY:No School - Holiday
LOCATION:All Schools
URL;VALUE=URI:https://www.westcler.org/calendar/8440941/no-school-holiday
DTSTART;VALUE=DATE:20260119
DTEND;VALUE=DATE:20260120
END:VEVENT
END:VCALENDAR
