BEGIN:VCALENDAR
VERSION:2.0
PRODID:SchoolNow
CALSCALE:GREGORIAN
BEGIN:VEVENT
UID:a3bca586-67f6-11f0-ab78-0affc1143c3b
DTSTAMP:20260419T142604Z
SUMMARY:No School - (Teacher Work Day)
LOCATION:All Schools
URL;VALUE=URI:https://www.westcler.org/calendar/8440949/no-school-teacher-w
 ork-day
DTSTART;VALUE=DATE:20260105
DTEND;VALUE=DATE:20260106
END:VEVENT
END:VCALENDAR
