BEGIN:VCALENDAR
VERSION:2.0
PRODID:SchoolNow
CALSCALE:GREGORIAN
BEGIN:VEVENT
UID:a3bca66c-67f6-11f0-9972-0affc1143c3b
DTSTAMP:20260419T082107Z
SUMMARY:Teacher Work Day
LOCATION:All Schools
URL;VALUE=URI:https://www.westcler.org/calendar/8440950/teacher-work-day
DTSTART;VALUE=DATE:20260522
DTEND;VALUE=DATE:20260523
END:VEVENT
END:VCALENDAR
