BEGIN:VCALENDAR
VERSION:2.0
PRODID:SchoolNow
CALSCALE:GREGORIAN
BEGIN:VEVENT
UID:a3bca838-67f6-11f0-88df-0affc1143c3b
DTSTAMP:20260419T082107Z
SUMMARY:Kindergarten Information Night
LOCATION:WCHS
URL;VALUE=URI:https://www.westcler.org/calendar/8440952/kindergarten-inform
 ation-night
DTSTART:20260224T230000Z
DTEND:20260225T010000Z
END:VEVENT
END:VCALENDAR
