BEGIN:VCALENDAR
VERSION:2.0
PRODID:SchoolNow
CALSCALE:GREGORIAN
BEGIN:VEVENT
UID:a3bcb51c-67f6-11f0-b002-0affc1143c3b
DTSTAMP:20260419T142604Z
SUMMARY:No School - Winter Break
LOCATION:All Schools
URL;VALUE=URI:https://www.westcler.org/calendar/8440966/no-school-winter-br
 eak
DTSTART;VALUE=DATE:20251222
DTEND;VALUE=DATE:20260101
END:VEVENT
END:VCALENDAR
