BEGIN:VCALENDAR
VERSION:2.0
PRODID:SchoolNow
CALSCALE:GREGORIAN
BEGIN:VEVENT
UID:a3bcb602-67f6-11f0-81cc-0affc1143c3b
DTSTAMP:20260419T142604Z
SUMMARY:No School - Holiday
LOCATION:All Schools
URL;VALUE=URI:https://www.westcler.org/calendar/8440967/no-school-holiday
DTSTART;VALUE=DATE:20260101
DTEND;VALUE=DATE:20260103
END:VEVENT
END:VCALENDAR
