BEGIN:VCALENDAR
VERSION:2.0
PRODID:SchoolNow
CALSCALE:GREGORIAN
BEGIN:VEVENT
UID:3849034a-06a1-11f1-bd78-0e61aa1fa58d
DTSTAMP:20260419T142604Z
SUMMARY:Board of Education Meeting
LOCATION:Clough Pike Elementary School\, 808 Clough Pike\, Cincinnati\, OH 
 45245\, USA
URL;VALUE=URI:https://www.westcler.org/calendar/8852279/board-of-education-
 meeting
DTSTART:20260128T233000Z
DTEND:20260129T010000Z
END:VEVENT
END:VCALENDAR
