BEGIN:VCALENDAR
VERSION:2.0
PRODID:SchoolNow
CALSCALE:GREGORIAN
BEGIN:VEVENT
UID:3849044e-06a1-11f1-a9bc-0e61aa1fa58d
DTSTAMP:20260419T203105Z
SUMMARY:Board of Education Meeting
LOCATION:Union Township Civic Center\, 4350 Aicholtz Rd\, Cincinnati\, OH 4
 5245\, USA (Town Hall Room)
URL;VALUE=URI:https://www.westcler.org/calendar/8852280/board-of-education-
 meeting
DTSTART:20261208T000000Z
DTEND:20261208T013000Z
END:VEVENT
END:VCALENDAR
