BEGIN:VCALENDAR
VERSION:2.0
PRODID:SchoolNow
CALSCALE:GREGORIAN
BEGIN:VEVENT
UID:384908b8-06a1-11f1-b771-0e61aa1fa58d
DTSTAMP:20260419T142604Z
SUMMARY:Board of Education Meeting
LOCATION:Union Township Civic Center\, 4350 Aicholtz Rd\, Cincinnati\, OH 4
 5245\, USA (Town Hall Room)
URL;VALUE=URI:https://www.westcler.org/calendar/8852285/board-of-education-
 meeting
DTSTART:20260817T230000Z
DTEND:20260818T003000Z
END:VEVENT
END:VCALENDAR
