BEGIN:VCALENDAR
VERSION:2.0
PRODID:SchoolNow
CALSCALE:GREGORIAN
BEGIN:VEVENT
UID:38490a98-06a1-11f1-9928-0e61aa1fa58d
DTSTAMP:20260419T203105Z
SUMMARY:Board of Education Meeting
LOCATION:Union Township Civic Center\, 4350 Aicholtz Rd\, Cincinnati\, OH 4
 5245\, USA (Queen City Room)
URL;VALUE=URI:https://www.westcler.org/calendar/8852287/board-of-education-
 meeting
DTSTART:20261120T000000Z
DTEND:20261120T013000Z
END:VEVENT
END:VCALENDAR
