BEGIN:VCALENDAR
VERSION:2.0
PRODID:SchoolNow
CALSCALE:GREGORIAN
BEGIN:VEVENT
UID:38490b92-06a1-11f1-b2b2-0e61aa1fa58d
DTSTAMP:20260419T082107Z
SUMMARY:BOE Education Committee Meeting
LOCATION:Union Township Civic Center\, 4350 Aicholtz Rd\, Cincinnati\, OH 4
 5245\, USA (Riverview Room)
URL;VALUE=URI:https://www.westcler.org/calendar/8852288/boe-education-commi
 ttee-meeting
DTSTART:20260223T230000Z
DTEND:20260224T000000Z
END:VEVENT
END:VCALENDAR
