BEGIN:VCALENDAR
VERSION:2.0
PRODID:SchoolNow
CALSCALE:GREGORIAN
BEGIN:VEVENT
UID:38490c6e-06a1-11f1-9000-0e61aa1fa58d
DTSTAMP:20260419T082107Z
SUMMARY:BOE Finance Committee
LOCATION:Union Township Civic Center\, 4350 Aicholtz Rd\, Cincinnati\, OH 4
 5245\, USA (Queen City Room)
URL;VALUE=URI:https://www.westcler.org/calendar/8852289/boe-finance-committ
 ee
DTSTART:20260218T220000Z
DTEND:20260218T230000Z
END:VEVENT
END:VCALENDAR
