BEGIN:VCALENDAR
VERSION:2.0
PRODID:SchoolNow
CALSCALE:GREGORIAN
BEGIN:VEVENT
UID:44bf120e-06a1-11f1-9b85-0afffed4890b
DTSTAMP:20260419T082107Z
SUMMARY:LoveWC Week
URL;VALUE=URI:https://www.westcler.org/calendar/8852290/lovewc-week
DTSTART;VALUE=DATE:20260223
DTEND;VALUE=DATE:20260228
END:VEVENT
END:VCALENDAR
